BEGIN:VCALENDAR
VERSION:2.0
CALSCALE:GREGORIAN
PRODID:adamgibbons/ics
METHOD:PUBLISH
X-PUBLISHED-TTL:PT1H
BEGIN:VEVENT
UID:792@event.cologne
SUMMARY:Onleihe 3 – eine Umstellungshilfe
DTSTAMP:20260425T103528Z
DTSTART:20260609T150000Z
DTEND:20260609T170000Z
DESCRIPTION:Gemeinsam die neue Onleihe kennenlernen. Im Rahmen der Reihe Di
	gitale Werkstatt\nim Interim der Zentralbibliothek .\n\n17 bis 19 Uhr\n\nD
	ie Teilnahme ist kostenlos.
URL:https://event.cologne/event/onleihe-3-eine-umstellungshilfe
GEO:50.9371;6.95656
LOCATION:Interim Zentralbibliothek - Hohe Straße 68-82\, 50667 Köln
STATUS:CONFIRMED
CATEGORIES:EintrittFrei,Innenstadt
X-ALT-DESC;FMTTYPE=text/html:<p>Gemeinsam die neue Onleihe kennenlernen. Im
	 Rahmen der Reihe Digitale Werkstatt im Interim der Zentralbibliothek​.</p
	><p>17 bis 19 Uhr</p><p>Die Teilnahme ist kostenlos.</p>
BEGIN:VALARM
ACTION:DISPLAY
DESCRIPTION:Onleihe 3 – eine Umstellungshilfe
TRIGGER:-PT1H
END:VALARM
END:VEVENT
END:VCALENDAR
