BEGIN:VCALENDAR
VERSION:2.0
CALSCALE:GREGORIAN
PRODID:adamgibbons/ics
METHOD:PUBLISH
X-PUBLISHED-TTL:PT1H
BEGIN:VEVENT
UID:26@event.cologne
SUMMARY:Omid & Jamshid – Live on Stage
DTSTAMP:20260420T181829Z
DTSTART:20260328T190000Z
DTEND:20260328T190000Z
DESCRIPTION:Abgesagt\nPersisches Neujahrsfest – Nowruz Celebration 2026\nDi
	e Veranstaltung wurde abgesagt - bitte wenden Sie sich für weitere\nInform
	ationen an den Veranstalter\, Pars Entertainment GmbH.\nTickets können dor
	t zurück gegeben werden\, wo sie gekauft wurden.\nBestuhlt
URL:https://event.cologne/event/omid-and-jamshid-live-on-stage
GEO:50.9459;6.97042
LOCATION:Tanzbrunnen - Rheinparkweg 1\, 50679 Köln
STATUS:CONFIRMED
CATEGORIES:
X-ALT-DESC;FMTTYPE=text/html:<p>Abgesagt<br>Persisches Neujahrsfest – Nowru
	z Celebration 2026<br>Die Veranstaltung wurde abgesagt - bitte wenden Sie 
	sich für weitere Informationen an den Veranstalter, Pars Entertainment Gmb
	H.<br>Tickets können dort zurück gegeben werden, wo sie gekauft wurden.<br
	>Bestuhlt</p>
BEGIN:VALARM
ACTION:DISPLAY
DESCRIPTION:Omid & Jamshid – Live on Stage
TRIGGER:-PT1H
END:VALARM
END:VEVENT
END:VCALENDAR
