BEGIN:VCALENDAR
VERSION:2.0
CALSCALE:GREGORIAN
PRODID:adamgibbons/ics
METHOD:PUBLISH
X-PUBLISHED-TTL:PT1H
BEGIN:VEVENT
UID:106@event.cologne
SUMMARY:Old But Gold Festival
DTSTAMP:20260420T182319Z
DTSTART:20260704T090000Z
DTEND:20260704T090000Z
URL:https://event.cologne/event/old-but-gold-festival
GEO:50.9459;6.97042
LOCATION:Tanzbrunnen - Rheinparkweg 1\, 50679 Köln
STATUS:CONFIRMED
CATEGORIES:
BEGIN:VALARM
ACTION:DISPLAY
DESCRIPTION:Old But Gold Festival
TRIGGER:-PT1H
END:VALARM
END:VEVENT
END:VCALENDAR
