BEGIN:VCALENDAR
VERSION:2.0
CALSCALE:GREGORIAN
PRODID:adamgibbons/ics
METHOD:PUBLISH
X-PUBLISHED-TTL:PT1H
BEGIN:VEVENT
UID:296@event.cologne
SUMMARY:Offene Führung für Sechs- bis Zehnjährige durch Finkens Garten
DTSTAMP:20260420T182356Z
DTSTART:20260407T123000Z
DTEND:20260407T140000Z
DESCRIPTION:Rodenkirchen\n\nFührung für Kinder in Begleitung ihrer Eltern o
	der Großeltern durch den\nNaturerlebnisgarten\n\n14:30 bis 16 Uhr\n\nDie T
	eilnahme ist kostenlos. Der Förderverein freut sich über eine Spende\nzugu
	nsten der naturpädagogischen Arbeit in Finkens Garten.
URL:https://event.cologne/event/offene-fuhrung-fur-sechs-bis-zehnjahrige-du
	rch-finkens-garten
LOCATION:Finkens Garten - Friedrich-Ebert-Straße 49\, 50996 Köln
STATUS:CONFIRMED
CATEGORIES:Führung,Rodenkirchen
X-ALT-DESC;FMTTYPE=text/html:<p><strong>Rodenkirchen</strong></p><p>Führung
	 für Kinder in Begleitung ihrer Eltern oder Großeltern durch den Naturerle
	bnisgarten</p><p>14:30 bis 16 Uhr</p><p>Die Teilnahme ist kostenlos. Der F
	örderverein freut sich über eine Spende zugunsten der naturpädagogischen A
	rbeit in Finkens Garten.</p>
BEGIN:VALARM
ACTION:DISPLAY
DESCRIPTION:Offene Führung für Sechs- bis Zehnjährige durch Finkens Garten
TRIGGER:-PT1H
END:VALARM
END:VEVENT
END:VCALENDAR
