BEGIN:VCALENDAR
VERSION:2.0
CALSCALE:GREGORIAN
PRODID:adamgibbons/ics
METHOD:PUBLISH
X-PUBLISHED-TTL:PT1H
BEGIN:VEVENT
UID:757@event.cologne
SUMMARY:Notenlesen für Einsteiger*innen
DTSTAMP:20260423T011459Z
DTSTART:20260521T160000Z
DTEND:20260521T170000Z
DESCRIPTION:Notenlesen lernen im Interim der Zentralbibliothek.\n\n18 bis 1
	9 Uhr\n\nDie Teilnahme ist kostenlos.
URL:https://event.cologne/event/notenlesen-fur-einsteigerinnen
GEO:50.9371;6.95656
LOCATION:Interim Zentralbibliothek - Hohe Straße 68-82\, 50667 Köln
STATUS:CONFIRMED
CATEGORIES:EintrittFrei,Innenstadt,Konzert
X-ALT-DESC;FMTTYPE=text/html:<p>Notenlesen lernen im Interim der Zentralbib
	liothek.</p><p>18 bis 19 Uhr</p><p>Die Teilnahme ist kostenlos.</p>
BEGIN:VALARM
ACTION:DISPLAY
DESCRIPTION:Notenlesen für Einsteiger*innen
TRIGGER:-PT1H
END:VALARM
END:VEVENT
END:VCALENDAR
