BEGIN:VCALENDAR
VERSION:2.0
CALSCALE:GREGORIAN
PRODID:adamgibbons/ics
METHOD:PUBLISH
X-PUBLISHED-TTL:PT1H
BEGIN:VEVENT
UID:752@event.cologne
SUMMARY:Nippeser Strickmamsellcher
DTSTAMP:20260422T101004Z
DTSTART:20260605T140000Z
DTEND:20260605T160000Z
DESCRIPTION:Stricken und Klönen in der Stadtteilbibliothek Nippes.\n\n16 bi
	s 18 Uhr\n\nDie Teilnahme ist kostenlos.
URL:https://event.cologne/event/nippeser-strickmamsellcher-22
GEO:50.9728;6.9516
LOCATION:Stadtteilbibliothek Nippes - Neusser Straße 450\, 50733 Köln
STATUS:CONFIRMED
CATEGORIES:EintrittFrei,Nippes
X-ALT-DESC;FMTTYPE=text/html:<p>Stricken und Klönen in der Stadtteilbibliot
	hek Nippes.</p><p>16 bis 18 Uhr</p><p>Die Teilnahme ist kostenlos.</p>
BEGIN:VALARM
ACTION:DISPLAY
DESCRIPTION:Nippeser Strickmamsellcher
TRIGGER:-PT1H
END:VALARM
END:VEVENT
END:VCALENDAR
