BEGIN:VCALENDAR
VERSION:2.0
CALSCALE:GREGORIAN
PRODID:adamgibbons/ics
METHOD:PUBLISH
X-PUBLISHED-TTL:PT1H
BEGIN:VEVENT
UID:734@event.cologne
SUMMARY:Nippeser Strickmamsellcher
DTSTAMP:20260420T181710Z
DTSTART:20260602T133000Z
DTEND:20260602T153000Z
DESCRIPTION:Stricken und Klönen in der Stadtteilbibliothek Nippes.\n\n15:30
	 bis 17:30 Uhr\n\nDie Teilnahme ist kostenlos.
URL:https://event.cologne/event/nippeser-strickmamsellcher-21
GEO:50.9728;6.9516
LOCATION:Stadtteilbibliothek Nippes - Neusser Straße 450\, 50733 Köln
STATUS:CONFIRMED
CATEGORIES:EintrittFrei,Nippes
X-ALT-DESC;FMTTYPE=text/html:<p>Stricken und Klönen in der Stadtteilbibliot
	hek Nippes.</p><p>15:30 bis 17:30 Uhr</p><p>Die Teilnahme ist kostenlos.</
	p>
BEGIN:VALARM
ACTION:DISPLAY
DESCRIPTION:Nippeser Strickmamsellcher
TRIGGER:-PT1H
END:VALARM
END:VEVENT
END:VCALENDAR
