BEGIN:VCALENDAR
VERSION:2.0
CALSCALE:GREGORIAN
PRODID:adamgibbons/ics
METHOD:PUBLISH
X-PUBLISHED-TTL:PT1H
BEGIN:VEVENT
UID:788@event.cologne
SUMMARY:Mobile Filming
DTSTAMP:20260425T102836Z
DTSTART:20260609T130000Z
DTEND:20260609T143000Z
DESCRIPTION:Filmen mit dem Handy – aber richtig! Ein Makerspace-Workshop im
	 Interim\nZentralbibliothek.\n\n15 bis 16:30 Uhr\n\nDie Teilnahme ist kost
	enlos.
URL:https://event.cologne/event/mobile-filming-5
GEO:50.9371;6.95656
LOCATION:Interim Zentralbibliothek - Hohe Straße 68-82\, 50667 Köln
STATUS:CONFIRMED
CATEGORIES:EintrittFrei,Innenstadt
X-ALT-DESC;FMTTYPE=text/html:<p>Filmen mit dem Handy – aber richtig! Ein Ma
	kerspace-Workshop im Interim Zentralbibliothek.</p><p>15 bis 16:30 Uhr</p>
	<p>Die Teilnahme ist kostenlos.</p>
BEGIN:VALARM
ACTION:DISPLAY
DESCRIPTION:Mobile Filming
TRIGGER:-PT1H
END:VALARM
END:VEVENT
END:VCALENDAR
