BEGIN:VCALENDAR
VERSION:2.0
CALSCALE:GREGORIAN
PRODID:adamgibbons/ics
METHOD:PUBLISH
X-PUBLISHED-TTL:PT1H
BEGIN:VEVENT
UID:348@event.cologne
SUMMARY:Mobile Filming
DTSTAMP:20260420T181549Z
DTSTART:20260325T133000Z
DTEND:20260325T150000Z
DESCRIPTION:Innenstadt\, EintrittFrei\n\nFilmen mit dem Handy – aber richti
	g! Ein Makerspace-Workshop im Interim\nZentralbibliothek.\n\n14:30 bis 16 
	Uhr\n\nDie Teilnahme ist kostenlos.
URL:https://event.cologne/event/mobile-filming-1
GEO:50.9371;6.95656
LOCATION:Interim Zentralbibliothek - Hohe Straße 68-82\, 50667 Köln
STATUS:CONFIRMED
CATEGORIES:EintrittFrei,Innenstadt
X-ALT-DESC;FMTTYPE=text/html:<p><strong>Innenstadt, EintrittFrei</strong></
	p><p>Filmen mit dem Handy – aber richtig! Ein Makerspace-Workshop im Inter
	im Zentralbibliothek.</p><p>14:30 bis 16 Uhr</p><p>Die Teilnahme ist koste
	nlos.</p>
BEGIN:VALARM
ACTION:DISPLAY
DESCRIPTION:Mobile Filming
TRIGGER:-PT1H
END:VALARM
END:VEVENT
END:VCALENDAR
