BEGIN:VCALENDAR
VERSION:2.0
CALSCALE:GREGORIAN
PRODID:adamgibbons/ics
METHOD:PUBLISH
X-PUBLISHED-TTL:PT1H
BEGIN:VEVENT
UID:118@event.cologne
SUMMARY:Mo-Torres – Mein größtes Konzert. Zuhause
DTSTAMP:20260420T182339Z
DTSTART:20260821T160000Z
DTEND:20260821T160000Z
DESCRIPTION:Unbestuhlt
URL:https://event.cologne/event/mo-torres-mein-grosstes-konzert-zuhause
GEO:50.9459;6.97042
LOCATION:Tanzbrunnen - Rheinparkweg 1\, 50679 Köln
STATUS:CONFIRMED
CATEGORIES:
X-ALT-DESC;FMTTYPE=text/html:<p>Unbestuhlt</p>
BEGIN:VALARM
ACTION:DISPLAY
DESCRIPTION:Mo-Torres – Mein größtes Konzert. Zuhause
TRIGGER:-PT1H
END:VALARM
END:VEVENT
END:VCALENDAR
