BEGIN:VCALENDAR
VERSION:2.0
CALSCALE:GREGORIAN
PRODID:adamgibbons/ics
METHOD:PUBLISH
X-PUBLISHED-TTL:PT1H
BEGIN:VEVENT
UID:768@event.cologne
SUMMARY:MINT-Vorlesen
DTSTAMP:20260423T011331Z
DTSTART:20260515T140000Z
DTEND:20260515T150000Z
DESCRIPTION:Bücher und Experimente für neugierige Kinder – in der Stadtteil
	bibliothek Haus\nBalchem\n\n16 bis 17 Uhr\n\nDie Teilnahme ist kostenlos.
URL:https://event.cologne/event/mint-vorlesen-2
GEO:50.9226;6.95897
LOCATION:Stadtteilbibliothek Haus Balchem - Severinstraße 15\, 50678 Köln
STATUS:CONFIRMED
CATEGORIES:EintrittFrei,Innenstadt
X-ALT-DESC;FMTTYPE=text/html:<p>Bücher und Experimente für neugierige Kinde
	r – in der Stadtteilbibliothek Haus Balchem</p><p>16 bis 17 Uhr</p><p>Die 
	Teilnahme ist kostenlos.</p>
BEGIN:VALARM
ACTION:DISPLAY
DESCRIPTION:MINT-Vorlesen
TRIGGER:-PT1H
END:VALARM
END:VEVENT
END:VCALENDAR
