BEGIN:VCALENDAR
VERSION:2.0
CALSCALE:GREGORIAN
PRODID:adamgibbons/ics
METHOD:PUBLISH
X-PUBLISHED-TTL:PT1H
BEGIN:VEVENT
UID:361@event.cologne
SUMMARY:Mini-Basteln
DTSTAMP:20260420T181533Z
DTSTART:20260331T140000Z
DTEND:20260331T150000Z
DESCRIPTION:Rodenkirchen\, EintrittFrei\n\nOsterkörbchen aus Pappbechern ba
	steln für Kinder von 4 bis 6 Jahren in der\nStadtteilbibliothek Rodenkirch
	en.\n\n16 bis 17 Uhr\n\nDie Veranstaltung ist kostenlos.
URL:https://event.cologne/event/mini-basteln
GEO:50.8894;6.99171
LOCATION:Stadtteilbibliothek Rodenkirchen - Schillingsrotter Straße 38\, 50
	996 Köln
STATUS:CONFIRMED
CATEGORIES:EintrittFrei,Rodenkirchen
X-ALT-DESC;FMTTYPE=text/html:<p><strong>Rodenkirchen, EintrittFrei</strong>
	</p><p>Osterkörbchen aus Pappbechern basteln für Kinder von 4 bis 6 Jahren
	 in der Stadtteilbibliothek Rodenkirchen.</p><p>16 bis 17 Uhr</p><p>Die Ve
	ranstaltung ist kostenlos.</p>
BEGIN:VALARM
ACTION:DISPLAY
DESCRIPTION:Mini-Basteln
TRIGGER:-PT1H
END:VALARM
END:VEVENT
END:VCALENDAR
