BEGIN:VCALENDAR
VERSION:2.0
CALSCALE:GREGORIAN
PRODID:adamgibbons/ics
METHOD:PUBLISH
X-PUBLISHED-TTL:PT1H
BEGIN:VEVENT
UID:60@event.cologne
SUMMARY:Michael Hatzius – Echsklusiv
DTSTAMP:20260420T181657Z
DTSTART:20260918T170000Z
DTEND:20260918T170000Z
DESCRIPTION:Bestuhlt
URL:https://event.cologne/event/michael-hatzius-echsklusiv
GEO:50.9459;6.97042
LOCATION:Tanzbrunnen - Rheinparkweg 1\, 50679 Köln
STATUS:CONFIRMED
CATEGORIES:
X-ALT-DESC;FMTTYPE=text/html:<p>Bestuhlt</p>
BEGIN:VALARM
ACTION:DISPLAY
DESCRIPTION:Michael Hatzius – Echsklusiv
TRIGGER:-PT1H
END:VALARM
END:VEVENT
END:VCALENDAR
