BEGIN:VCALENDAR
VERSION:2.0
CALSCALE:GREGORIAN
PRODID:adamgibbons/ics
METHOD:PUBLISH
X-PUBLISHED-TTL:PT1H
BEGIN:VEVENT
UID:62@event.cologne
SUMMARY:MERVEnzusammenbruch
DTSTAMP:20260420T181656Z
DTSTART:20260921T170000Z
DTEND:20260921T170000Z
URL:https://event.cologne/event/mervenzusammenbruch
GEO:50.9459;6.97042
LOCATION:Tanzbrunnen - Rheinparkweg 1\, 50679 Köln
STATUS:CONFIRMED
CATEGORIES:
BEGIN:VALARM
ACTION:DISPLAY
DESCRIPTION:MERVEnzusammenbruch
TRIGGER:-PT1H
END:VALARM
END:VEVENT
END:VCALENDAR
