BEGIN:VCALENDAR
VERSION:2.0
CALSCALE:GREGORIAN
PRODID:adamgibbons/ics
METHOD:PUBLISH
X-PUBLISHED-TTL:PT1H
BEGIN:VEVENT
UID:52@event.cologne
SUMMARY:Mellow – Blow Your Mind!
DTSTAMP:20260420T181539Z
DTSTART:20260524T140000Z
DTEND:20260524T140000Z
DESCRIPTION:Magie & Illusionen Live!\nBestuhlt
URL:https://event.cologne/event/mellow-blow-your-mind
GEO:50.9459;6.97042
LOCATION:Tanzbrunnen - Rheinparkweg 1\, 50679 Köln
STATUS:CONFIRMED
CATEGORIES:
X-ALT-DESC;FMTTYPE=text/html:<p>Magie &amp; Illusionen Live!<br>Bestuhlt</p
	>
BEGIN:VALARM
ACTION:DISPLAY
DESCRIPTION:Mellow – Blow Your Mind!
TRIGGER:-PT1H
END:VALARM
END:VEVENT
END:VCALENDAR
