BEGIN:VCALENDAR
VERSION:2.0
CALSCALE:GREGORIAN
PRODID:adamgibbons/ics
METHOD:PUBLISH
X-PUBLISHED-TTL:PT1H
BEGIN:VEVENT
UID:146@event.cologne
SUMMARY:Max und Moritz
DTSTAMP:20260420T181531Z
DTSTART:20260414T220000Z
DTEND:20260414T220000Z
DESCRIPTION:Rodenkirchen\n\nMichael Schikowski liest Wilhelm Buschs Bubenge
	schichte in 7 Streichen\, mit\nmusikalischer Begleitung vom Salonbrass Rod
	enkirchen. Eine Veranstaltung des\nFördervereins Literamus e. V. in der St
	adtteilbibliothek Rodenkirchen.\n\n19: 30 Uhr\n\nDer Eintritt kostet 15 Eu
	ro.
URL:https://event.cologne/event/max-und-moritz
GEO:50.8894;6.99171
LOCATION:Stadtteilbibliothek Rodenkirchen - Schillingsrotter Straße 38\, 50
	996 Köln
STATUS:CONFIRMED
CATEGORIES:Kabarett,Rodenkirchen
X-ALT-DESC;FMTTYPE=text/html:<p><strong>Rodenkirchen</strong></p><p>Michael
	 Schikowski liest Wilhelm Buschs Bubengeschichte in 7 Streichen, mit musik
	alischer Begleitung vom Salonbrass Rodenkirchen. Eine Veranstaltung des Fö
	rdervereins Literamus e. V. in der Stadtteilbibliothek Rodenkirchen.</p><p
	>19: 30 Uhr</p><p>Der Eintritt kostet 15 Euro.</p>
BEGIN:VALARM
ACTION:DISPLAY
DESCRIPTION:Max und Moritz
TRIGGER:-PT1H
END:VALARM
END:VEVENT
END:VCALENDAR
