BEGIN:VCALENDAR
VERSION:2.0
CALSCALE:GREGORIAN
PRODID:adamgibbons/ics
METHOD:PUBLISH
X-PUBLISHED-TTL:PT1H
BEGIN:VEVENT
UID:685@event.cologne
SUMMARY:Matinee Konzert mit dem Symphonischen Jugendblasorchester der Rhein
	ischen Musikschule
DTSTAMP:20260420T182358Z
DTSTART:20260531T090000Z
DTEND:20260531T090000Z
DESCRIPTION:Bestuhlt
URL:https://event.cologne/event/matinee-konzert-mit-dem-symphonischen-jugen
	dblasorchester-der-rheinischen-musikschule
GEO:50.9602;6.97071
LOCATION:Flora - Am Botanischen Garten 1a\, 50735 Köln
STATUS:CONFIRMED
CATEGORIES:
X-ALT-DESC;FMTTYPE=text/html:<p>Bestuhlt</p>
BEGIN:VALARM
ACTION:DISPLAY
DESCRIPTION:Matinee Konzert mit dem Symphonischen Jugendblasorchester der R
	heinischen Musikschule
TRIGGER:-PT1H
END:VALARM
END:VEVENT
END:VCALENDAR
