BEGIN:VCALENDAR
VERSION:2.0
CALSCALE:GREGORIAN
PRODID:adamgibbons/ics
METHOD:PUBLISH
X-PUBLISHED-TTL:PT1H
BEGIN:VEVENT
UID:303@event.cologne
SUMMARY:Match nach Mittag
DTSTAMP:20260420T181658Z
DTSTART:20260326T153000Z
DTEND:20260326T170000Z
DESCRIPTION:Mülheim\, EintrittFrei\n\nMario's kunterbunte Spielwelt: Entdec
	kte das Mario-Universum in der\nStadtteilbibliothek Mülheim.\n\n16:30 bis 
	18 Uhr\n\nDie Teilnahme ist kostenlos.
URL:https://event.cologne/event/match-nach-mittag
GEO:50.961;7.00412
LOCATION:Stadtteilbibliothek Mülheim - Wiener Platz 2a\, 51065 Köln
STATUS:CONFIRMED
CATEGORIES:EintrittFrei,Mülheim,Sport
X-ALT-DESC;FMTTYPE=text/html:<p><strong>Mülheim, EintrittFrei</strong></p><
	p>Mario's kunterbunte Spielwelt: Entdeckte das Mario-Universum in der Stad
	tteilbibliothek Mülheim.</p><p>16:30 bis 18 Uhr</p><p>Die Teilnahme ist ko
	stenlos.</p>
BEGIN:VALARM
ACTION:DISPLAY
DESCRIPTION:Match nach Mittag
TRIGGER:-PT1H
END:VALARM
END:VEVENT
END:VCALENDAR
