BEGIN:VCALENDAR
VERSION:2.0
CALSCALE:GREGORIAN
PRODID:adamgibbons/ics
METHOD:PUBLISH
X-PUBLISHED-TTL:PT1H
BEGIN:VEVENT
UID:186@event.cologne
SUMMARY:Marie Juchacz und Elisabeth Kirschmann-Röhl – Zwei Schwestern für F
	rauenrechte und Gleichberechtigung
DTSTAMP:20260420T182354Z
DTSTART:20260311T170000Z
DTEND:20260311T183000Z
DESCRIPTION:Innenstadt\n\nDie beiden Schwestern Marie Juchacz und Elisabeth
	 Kirschmann-Röhl kämpfen schon\nlange für das Wahlrecht für Frauen. 1919 k
	ommt es erstmals zum Einsatz und\nbringt beide Frauen als Abgeordnete der 
	SPD für die Bezirke Potsdam und\nKöln-Aachen ins Parlament.\n\n18 bis 19:3
	0 Uhr\n\nKostenlos
URL:https://event.cologne/event/marie-juchacz-und-elisabeth-kirschmann-rohl
	-zwei-schwestern-fur-frauenrechte-und-gleichberechtigung
LOCATION:Historisches Archiv mit Rheinischem Bildarchiv - Eifelwall 5\, 506
	74 Köln
STATUS:CONFIRMED
CATEGORIES:Ausstellung,Innenstadt
X-ALT-DESC;FMTTYPE=text/html:<p><strong>Innenstadt</strong></p><p>Die beide
	n Schwestern Marie Juchacz und Elisabeth Kirschmann-Röhl kämpfen schon lan
	ge für das Wahlrecht für Frauen. 1919 kommt es erstmals zum Einsatz und br
	ingt beide Frauen als Abgeordnete der SPD für die Bezirke Potsdam und Köln
	-Aachen ins Parlament.</p><p>18 bis 19:30 Uhr</p><p>Kostenlos</p>
BEGIN:VALARM
ACTION:DISPLAY
DESCRIPTION:Marie Juchacz und Elisabeth Kirschmann-Röhl – Zwei Schwestern f
	ür Frauenrechte und Gleichberechtigung
TRIGGER:-PT1H
END:VALARM
END:VEVENT
END:VCALENDAR
