BEGIN:VCALENDAR
VERSION:2.0
CALSCALE:GREGORIAN
PRODID:adamgibbons/ics
METHOD:PUBLISH
X-PUBLISHED-TTL:PT1H
BEGIN:VEVENT
UID:273@event.cologne
SUMMARY:Makey Makey
DTSTAMP:20260420T181538Z
DTSTART:20260402T080000Z
DTEND:20260402T110000Z
DESCRIPTION:Innenstadt\, EintrittFrei\n\nGestalte dein eigenes Musikinstrum
	ent! Im Rahmen unseres Programms Maker Kids in\nden Osterferien im Interim
	 Zentralbibliothek.\n\n10 bis 13 Uhr\n\nDie Teilnahme ist kostenlos.
URL:https://event.cologne/event/makey-makey
GEO:50.9371;6.95656
LOCATION:Interim Zentralbibliothek - Hohe Straße 68-82\, 50667 Köln
STATUS:CONFIRMED
CATEGORIES:EintrittFrei,Familie,Innenstadt
X-ALT-DESC;FMTTYPE=text/html:<p><strong>Innenstadt, EintrittFrei</strong></
	p><p>Gestalte dein eigenes Musikinstrument! Im Rahmen unseres Programms Ma
	ker Kids in den Osterferien im Interim Zentralbibliothek.</p><p>10 bis 13 
	Uhr</p><p>Die Teilnahme ist kostenlos.</p>
BEGIN:VALARM
ACTION:DISPLAY
DESCRIPTION:Makey Makey
TRIGGER:-PT1H
END:VALARM
END:VEVENT
END:VCALENDAR
