BEGIN:VCALENDAR
VERSION:2.0
CALSCALE:GREGORIAN
PRODID:adamgibbons/ics
METHOD:PUBLISH
X-PUBLISHED-TTL:PT1H
BEGIN:VEVENT
UID:147@event.cologne
SUMMARY:Magie für die ganze Familie
DTSTAMP:20260420T182405Z
DTSTART:20260322T140000Z
DTEND:20260322T210000Z
DESCRIPTION:Innenstadt\, EintrittFrei\n\nZauberkunst und Zaubertricks im Ra
	hmen von Sonntags in der Bibliothek im Interim\nZentralbibliothek.\n\n15 U
	hr\n\nDie Veranstaltung ist kostenlos.
URL:https://event.cologne/event/magie-fur-die-ganze-familie
GEO:50.9371;6.95656
LOCATION:Interim Zentralbibliothek - Hohe Straße 68-82\, 50667 Köln
STATUS:CONFIRMED
CATEGORIES:EintrittFrei,Innenstadt,Kleinkunst
X-ALT-DESC;FMTTYPE=text/html:<p><strong>Innenstadt, EintrittFrei</strong></
	p><p>Zauberkunst und Zaubertricks im Rahmen von Sonntags in der Bibliothek
	 im Interim Zentralbibliothek.</p><p>15 Uhr</p><p>Die Veranstaltung ist ko
	stenlos.</p>
BEGIN:VALARM
ACTION:DISPLAY
DESCRIPTION:Magie für die ganze Familie
TRIGGER:-PT1H
END:VALARM
END:VEVENT
END:VCALENDAR
