BEGIN:VCALENDAR
VERSION:2.0
CALSCALE:GREGORIAN
PRODID:adamgibbons/ics
METHOD:PUBLISH
X-PUBLISHED-TTL:PT1H
BEGIN:VEVENT
UID:234@event.cologne
SUMMARY:Lunch Lectures
DTSTAMP:20260420T181532Z
DTSTART:20260415T111500Z
DTEND:20260415T200000Z
DESCRIPTION:Innenstadt\n\n35 Literaturgeschichten – diesmal mit Thorsten Kr
	ämer und Textbücher 1-6 von\nHelmut Heißenbüttel. Im Rahmen unseres Kultur
	programms im Interim\nZentralbibliothek.\n\n13:15 Uhr\n\nDer Eintritt ist 
	frei.
URL:https://event.cologne/event/lunch-lectures
GEO:50.9371;6.95656
LOCATION:Interim Zentralbibliothek - Hohe Straße 68-82\, 50667 Köln
STATUS:CONFIRMED
CATEGORIES:Innenstadt,Lesung
X-ALT-DESC;FMTTYPE=text/html:<p><strong>Innenstadt</strong></p><p>35 Litera
	turgeschichten – diesmal mit Thorsten Krämer und Textbücher 1-6 von Helmut
	 Heißenbüttel. Im Rahmen unseres Kulturprogramms im Interim Zentralbibliot
	hek.</p><p>13:15 Uhr</p><p>Der Eintritt ist frei.</p>
BEGIN:VALARM
ACTION:DISPLAY
DESCRIPTION:Lunch Lectures
TRIGGER:-PT1H
END:VALARM
END:VEVENT
END:VCALENDAR
