BEGIN:VCALENDAR
VERSION:2.0
CALSCALE:GREGORIAN
PRODID:adamgibbons/ics
METHOD:PUBLISH
X-PUBLISHED-TTL:PT1H
BEGIN:VEVENT
UID:271@event.cologne
SUMMARY:Luftballon-Werkstatt
DTSTAMP:20260420T181539Z
DTSTART:20260401T080000Z
DTEND:20260401T110000Z
DESCRIPTION:Innenstadt\, EintrittFrei\n\nSpannende Experimente im Rahmen un
	seres Programms Maker Kids in den Osterferien.\nIm Interim Zentralbiblioth
	ek.\n\n10 bis 13 Uhr\n\nDie Teilnahme ist kostenlos.
URL:https://event.cologne/event/luftballon-werkstatt
GEO:50.9371;6.95656
LOCATION:Interim Zentralbibliothek - Hohe Straße 68-82\, 50667 Köln
STATUS:CONFIRMED
CATEGORIES:EintrittFrei,Familie,Innenstadt
X-ALT-DESC;FMTTYPE=text/html:<p><strong>Innenstadt, EintrittFrei</strong></
	p><p>Spannende Experimente im Rahmen unseres Programms Maker Kids in den O
	sterferien. Im Interim Zentralbibliothek.</p><p>10 bis 13 Uhr</p><p>Die Te
	ilnahme ist kostenlos.</p>
BEGIN:VALARM
ACTION:DISPLAY
DESCRIPTION:Luftballon-Werkstatt
TRIGGER:-PT1H
END:VALARM
END:VEVENT
END:VCALENDAR
