BEGIN:VCALENDAR
VERSION:2.0
CALSCALE:GREGORIAN
PRODID:adamgibbons/ics
METHOD:PUBLISH
X-PUBLISHED-TTL:PT1H
BEGIN:VEVENT
UID:95@event.cologne
SUMMARY:LORIOT
DTSTAMP:20260420T181450Z
DTSTART:20270501T123000Z
DTEND:20270501T123000Z
DESCRIPTION:Die Ente bleibt draußen!
URL:https://event.cologne/event/loriot
GEO:50.9459;6.97042
LOCATION:Tanzbrunnen - Rheinparkweg 1\, 50679 Köln
STATUS:CONFIRMED
CATEGORIES:
X-ALT-DESC;FMTTYPE=text/html:<p>Die Ente bleibt draußen!</p>
BEGIN:VALARM
ACTION:DISPLAY
DESCRIPTION:LORIOT
TRIGGER:-PT1H
END:VALARM
END:VEVENT
END:VCALENDAR
