BEGIN:VCALENDAR
VERSION:2.0
CALSCALE:GREGORIAN
PRODID:adamgibbons/ics
METHOD:PUBLISH
X-PUBLISHED-TTL:PT1H
BEGIN:VEVENT
UID:753@event.cologne
SUMMARY:Lizenz für Lasercutter
DTSTAMP:20260422T103010Z
DTSTART:20260605T140000Z
DTEND:20260605T160000Z
DESCRIPTION:Durch diesen Workshop erhalten Sie die Möglichkeit\, den Laserc
	utter der\nStadtbibliothek Porz selbstständig zu nutzen.\n\n16 bis 18 Uhr\
	n\nDie Teilnahme ist kostenlos.
URL:https://event.cologne/event/lizenz-fur-lasercutter-3
GEO:50.885;7.05522
LOCATION:Stadtteilbibliothek Porz - Alfred-Moritz-Platz 1\, 51143 Köln
STATUS:CONFIRMED
CATEGORIES:EintrittFrei,Porz
X-ALT-DESC;FMTTYPE=text/html:<p>Durch diesen Workshop erhalten Sie die Mögl
	ichkeit, den Lasercutter der Stadtbibliothek Porz selbstständig zu nutzen.
	</p><p>16 bis 18 Uhr</p><p>Die Teilnahme ist kostenlos.</p>
BEGIN:VALARM
ACTION:DISPLAY
DESCRIPTION:Lizenz für Lasercutter
TRIGGER:-PT1H
END:VALARM
END:VEVENT
END:VCALENDAR
