BEGIN:VCALENDAR
VERSION:2.0
CALSCALE:GREGORIAN
PRODID:adamgibbons/ics
METHOD:PUBLISH
X-PUBLISHED-TTL:PT1H
BEGIN:VEVENT
UID:714@event.cologne
SUMMARY:Lizenz für 3D-Druck
DTSTAMP:20260420T181726Z
DTSTART:20260529T140000Z
DTEND:20260529T160000Z
DESCRIPTION:Porz\, EintrittFrei\n\nEin Workshop im Rahmen von Maker Porz.\n
	\n16 bis 18 Uhr\n\nDie Teilnahme ist kostenlos.
URL:https://event.cologne/event/lizenz-fur-3d-druck-6
GEO:50.885;7.05522
LOCATION:Stadtteilbibliothek Porz - Alfred-Moritz-Platz 1\, 51143 Köln
STATUS:CONFIRMED
CATEGORIES:EintrittFrei,Porz
X-ALT-DESC;FMTTYPE=text/html:<p><strong>Porz, EintrittFrei</strong></p><p>E
	in Workshop im Rahmen von Maker Porz.</p><p>16 bis 18 Uhr</p><p>Die Teilna
	hme ist kostenlos.</p>
BEGIN:VALARM
ACTION:DISPLAY
DESCRIPTION:Lizenz für 3D-Druck
TRIGGER:-PT1H
END:VALARM
END:VEVENT
END:VCALENDAR
