BEGIN:VCALENDAR
VERSION:2.0
CALSCALE:GREGORIAN
PRODID:adamgibbons/ics
METHOD:PUBLISH
X-PUBLISHED-TTL:PT1H
BEGIN:VEVENT
UID:312@event.cologne
SUMMARY:Lizenz für 3D-Druck
DTSTAMP:20260420T181708Z
DTSTART:20260312T153000Z
DTEND:20260312T173000Z
DESCRIPTION:Rodenkirchen\, EintrittFrei\n\nIn diesem Workshop erhalten Sie 
	eine Lizenz für den 3D-Drucker. In der\nStadtteilbibliothek Rodenkirchen.\
	n\n16:30 bis 18:30 Uhr\n\nDie Teilnahme ist kostenlos.
URL:https://event.cologne/event/lizenz-fur-3d-druck-2
GEO:50.8894;6.99171
LOCATION:Stadtteilbibliothek Rodenkirchen - Schillingsrotter Straße 38\, 50
	996 Köln
STATUS:CONFIRMED
CATEGORIES:EintrittFrei,Rodenkirchen
X-ALT-DESC;FMTTYPE=text/html:<p><strong>Rodenkirchen, EintrittFrei</strong>
	</p><p>In diesem Workshop erhalten Sie eine Lizenz für den 3D-Drucker. In 
	der Stadtteilbibliothek Rodenkirchen.</p><p>16:30 bis 18:30 Uhr</p><p>Die 
	Teilnahme ist kostenlos.</p>
BEGIN:VALARM
ACTION:DISPLAY
DESCRIPTION:Lizenz für 3D-Druck
TRIGGER:-PT1H
END:VALARM
END:VEVENT
END:VCALENDAR
