BEGIN:VCALENDAR
VERSION:2.0
CALSCALE:GREGORIAN
PRODID:adamgibbons/ics
METHOD:PUBLISH
X-PUBLISHED-TTL:PT1H
BEGIN:VEVENT
UID:135@event.cologne
SUMMARY:Live Podcast Oliver Pocher und Pietro Lombardi
DTSTAMP:20260420T182404Z
DTSTART:20260326T180000Z
DTEND:20260326T180000Z
DESCRIPTION:Bestuhlt
URL:https://event.cologne/event/live-podcast-oliver-pocher-und-pietro-lomba
	rdi
GEO:50.9602;6.97071
LOCATION:Flora - Am Botanischen Garten 1a\, 50735 Köln
STATUS:CONFIRMED
CATEGORIES:
X-ALT-DESC;FMTTYPE=text/html:<p>Bestuhlt</p>
BEGIN:VALARM
ACTION:DISPLAY
DESCRIPTION:Live Podcast Oliver Pocher und Pietro Lombardi
TRIGGER:-PT1H
END:VALARM
END:VEVENT
END:VCALENDAR
