BEGIN:VCALENDAR
VERSION:2.0
CALSCALE:GREGORIAN
PRODID:adamgibbons/ics
METHOD:PUBLISH
X-PUBLISHED-TTL:PT1H
BEGIN:VEVENT
UID:9@event.cologne
SUMMARY:lit.Kid. Margit Auer – Die Schule der magischen Tiere. Land unter!
DTSTAMP:20260420T182406Z
DTSTART:20260314T130000Z
DTEND:20260314T130000Z
DESCRIPTION:Bestuhlt
URL:https://event.cologne/event/litkid-margit-auer-die-schule-der-magischen
	-tiere-land-unter
GEO:50.9459;6.97042
LOCATION:Tanzbrunnen - Rheinparkweg 1\, 50679 Köln
STATUS:CONFIRMED
CATEGORIES:
X-ALT-DESC;FMTTYPE=text/html:<p>Bestuhlt</p>
BEGIN:VALARM
ACTION:DISPLAY
DESCRIPTION:lit.Kid. Margit Auer – Die Schule der magischen Tiere. Land unt
	er!
TRIGGER:-PT1H
END:VALARM
END:VEVENT
END:VCALENDAR
