BEGIN:VCALENDAR
VERSION:2.0
CALSCALE:GREGORIAN
PRODID:adamgibbons/ics
METHOD:PUBLISH
X-PUBLISHED-TTL:PT1H
BEGIN:VEVENT
UID:149@event.cologne
SUMMARY:Literaturkreis Neubrück
DTSTAMP:20260420T182210Z
DTSTART:20260404T090000Z
DTEND:20260404T110000Z
DESCRIPTION:Kalk\, EintrittFrei\n\nDer Literaturkreis Neubrück richtet sich
	 an Lesebegeisterte und findet momentan\nin der Stadtteilbibliothek Kalk s
	tatt.\n\n11 bis 13 Uhr\n\nDie Teilnahme ist kostenlos.
URL:https://event.cologne/event/literaturkreis-neubruck
GEO:50.9394;7.00844
LOCATION:Stadtteilbibliothek Kalk - Kalker Hauptstraße 247-273\, 51103 Köln
STATUS:CONFIRMED
CATEGORIES:EintrittFrei,Kalk,Literatur
X-ALT-DESC;FMTTYPE=text/html:<p><strong>Kalk, EintrittFrei</strong></p><p>D
	er Literaturkreis Neubrück richtet sich an Lesebegeisterte und findet mome
	ntan in der Stadtteilbibliothek Kalk statt.</p><p>11 bis 13 Uhr</p><p>Die 
	Teilnahme ist kostenlos.</p>
BEGIN:VALARM
ACTION:DISPLAY
DESCRIPTION:Literaturkreis Neubrück
TRIGGER:-PT1H
END:VALARM
END:VEVENT
END:VCALENDAR
