BEGIN:VCALENDAR
VERSION:2.0
CALSCALE:GREGORIAN
PRODID:adamgibbons/ics
METHOD:PUBLISH
X-PUBLISHED-TTL:PT1H
BEGIN:VEVENT
UID:746@event.cologne
SUMMARY:Literaturkreis Neubrück
DTSTAMP:20260422T101647Z
DTSTART:20260606T090000Z
DTEND:20260606T110000Z
DESCRIPTION:Der Literaturkreis Neubrück richtet sich an Lesebegeisterte und
	 findet momentan\nin der Stadtteilbibliothek Kalk statt.\n\n11 bis 13 Uhr\
	n\nDie Teilnahme ist kostenlos.
URL:https://event.cologne/event/literaturkreis-neubruck-2
GEO:50.9394;7.00844
LOCATION:Stadtteilbibliothek Kalk - Kalker Hauptstraße 247-273\, 51103 Köln
STATUS:CONFIRMED
CATEGORIES:EintrittFrei,Kalk,Literatur
X-ALT-DESC;FMTTYPE=text/html:<p>Der Literaturkreis Neubrück richtet sich an
	 Lesebegeisterte und findet momentan in der Stadtteilbibliothek Kalk statt
	.</p><p>11 bis 13 Uhr</p><p>Die Teilnahme ist kostenlos.</p>
BEGIN:VALARM
ACTION:DISPLAY
DESCRIPTION:Literaturkreis Neubrück
TRIGGER:-PT1H
END:VALARM
END:VEVENT
END:VCALENDAR
