BEGIN:VCALENDAR
VERSION:2.0
CALSCALE:GREGORIAN
PRODID:adamgibbons/ics
METHOD:PUBLISH
X-PUBLISHED-TTL:PT1H
BEGIN:VEVENT
UID:8@event.cologne
SUMMARY:lit.COLOGNE Zwei Seiten – Der Podcast über Bücher. Mit Mona Amezian
	e und Christine Westermann
DTSTAMP:20260420T182400Z
DTSTART:20260314T160000Z
DTEND:20260314T160000Z
DESCRIPTION:Bestuhlt
URL:https://event.cologne/event/litcologne-zwei-seiten-der-podcast-uber-buc
	her-mit-mona-ameziane-und-christine-westermann
GEO:50.9459;6.97042
LOCATION:Tanzbrunnen - Rheinparkweg 1\, 50679 Köln
STATUS:CONFIRMED
CATEGORIES:
X-ALT-DESC;FMTTYPE=text/html:<p>Bestuhlt</p>
BEGIN:VALARM
ACTION:DISPLAY
DESCRIPTION:lit.COLOGNE Zwei Seiten – Der Podcast über Bücher. Mit Mona Ame
	ziane und Christine Westermann
TRIGGER:-PT1H
END:VALARM
END:VEVENT
END:VCALENDAR
