BEGIN:VCALENDAR
VERSION:2.0
CALSCALE:GREGORIAN
PRODID:adamgibbons/ics
METHOD:PUBLISH
X-PUBLISHED-TTL:PT1H
BEGIN:VEVENT
UID:22@event.cologne
SUMMARY:lit.COLOGNE Wut\, Würde\, Wandel – Monchi und Hubertus Meyer-Burckh
	ardt im Gespräch
DTSTAMP:20260420T182343Z
DTSTART:20260322T150000Z
DTEND:20260322T150000Z
DESCRIPTION:Bestuhlt
URL:https://event.cologne/event/litcologne-wut-wurde-wandel-monchi-und-hube
	rtus-meyer-burckhardt-im-gesprach
GEO:50.9459;6.97042
LOCATION:Tanzbrunnen - Rheinparkweg 1\, 50679 Köln
STATUS:CONFIRMED
CATEGORIES:
X-ALT-DESC;FMTTYPE=text/html:<p>Bestuhlt</p>
BEGIN:VALARM
ACTION:DISPLAY
DESCRIPTION:lit.COLOGNE Wut, Würde, Wandel – Monchi und Hubertus Meyer-Burc
	khardt im Gespräch
TRIGGER:-PT1H
END:VALARM
END:VEVENT
END:VCALENDAR
