BEGIN:VCALENDAR
VERSION:2.0
CALSCALE:GREGORIAN
PRODID:adamgibbons/ics
METHOD:PUBLISH
X-PUBLISHED-TTL:PT1H
BEGIN:VEVENT
UID:13@event.cologne
SUMMARY:lit.COLOGNE Wie wird man eigentlich Weltmeister? Mit Rainer Bonhof\
	, Pierre Littbarski\, Renate Lingor und Joachim Löw
DTSTAMP:20260420T182359Z
DTSTART:20260316T183000Z
DTEND:20260316T183000Z
DESCRIPTION:Bestuhlt
URL:https://event.cologne/event/litcologne-wie-wird-man-eigentlich-weltmeis
	ter-mit-rainer-bonhof-pierre-littbarski-renate-lingor-und-joachim-low
GEO:50.9459;6.97042
LOCATION:Tanzbrunnen - Rheinparkweg 1\, 50679 Köln
STATUS:CONFIRMED
CATEGORIES:
X-ALT-DESC;FMTTYPE=text/html:<p>Bestuhlt</p>
BEGIN:VALARM
ACTION:DISPLAY
DESCRIPTION:lit.COLOGNE Wie wird man eigentlich Weltmeister? Mit Rainer Bon
	hof, Pierre Littbarski, Renate Lingor und Joachim Löw
TRIGGER:-PT1H
END:VALARM
END:VEVENT
END:VCALENDAR
