BEGIN:VCALENDAR
VERSION:2.0
CALSCALE:GREGORIAN
PRODID:adamgibbons/ics
METHOD:PUBLISH
X-PUBLISHED-TTL:PT1H
BEGIN:VEVENT
UID:16@event.cologne
SUMMARY:lit.COLOGNE Wie kann sie nur? Sophie Passmann über den alltäglichen
	 Wahnsinn\, eine Frau (im Internet) zu sein
DTSTAMP:20260420T182355Z
DTSTART:20260319T170000Z
DTEND:20260319T170000Z
DESCRIPTION:Abgesagt\nDie Veranstaltung wurde abgesagt - bitte wenden Sie s
	ich für weitere\nInformationen an den Veranstalter\, lit.COLOGNE [http://l
	it.COLOGNE] GmbH.\nTickets können dort zurück gegeben werden\, wo sie geka
	uft wurden.\nBestuhlt
URL:https://event.cologne/event/litcologne-wie-kann-sie-nur-sophie-passmann
	-uber-den-alltaglichen-wahnsinn-eine-frau-im-internet-zu-sein
GEO:50.9459;6.97042
LOCATION:Tanzbrunnen - Rheinparkweg 1\, 50679 Köln
STATUS:CONFIRMED
CATEGORIES:
X-ALT-DESC;FMTTYPE=text/html:<p>Abgesagt<br>Die Veranstaltung wurde abgesag
	t - bitte wenden Sie sich für weitere Informationen an den Veranstalter, <
	a target="_blank" href="http://lit.COLOGNE">lit.COLOGNE</a> GmbH.<br>Ticke
	ts können dort zurück gegeben werden, wo sie gekauft wurden.<br>Bestuhlt</
	p>
BEGIN:VALARM
ACTION:DISPLAY
DESCRIPTION:lit.COLOGNE Wie kann sie nur? Sophie Passmann über den alltägli
	chen Wahnsinn, eine Frau (im Internet) zu sein
TRIGGER:-PT1H
END:VALARM
END:VEVENT
END:VCALENDAR
