BEGIN:VCALENDAR
VERSION:2.0
CALSCALE:GREGORIAN
PRODID:adamgibbons/ics
METHOD:PUBLISH
X-PUBLISHED-TTL:PT1H
BEGIN:VEVENT
UID:134@event.cologne
SUMMARY:lit.COLOGNE Was liest einer\, der Geschichte schrieb? Olaf Scholz u
	nd die Bücher seines Lebens
DTSTAMP:20260420T182401Z
DTSTART:20260316T160000Z
DTEND:20260316T160000Z
DESCRIPTION:Bestuhlt
URL:https://event.cologne/event/litcologne-was-liest-einer-der-geschichte-s
	chrieb-olaf-scholz-und-die-bucher-seines-lebens
GEO:50.9602;6.97071
LOCATION:Flora - Am Botanischen Garten 1a\, 50735 Köln
STATUS:CONFIRMED
CATEGORIES:
X-ALT-DESC;FMTTYPE=text/html:<p>Bestuhlt</p>
BEGIN:VALARM
ACTION:DISPLAY
DESCRIPTION:lit.COLOGNE Was liest einer, der Geschichte schrieb? Olaf Schol
	z und die Bücher seines Lebens
TRIGGER:-PT1H
END:VALARM
END:VEVENT
END:VCALENDAR
