BEGIN:VCALENDAR
VERSION:2.0
CALSCALE:GREGORIAN
PRODID:adamgibbons/ics
METHOD:PUBLISH
X-PUBLISHED-TTL:PT1H
BEGIN:VEVENT
UID:7@event.cologne
SUMMARY:lit.COLOGNE Umberto Eco und die Welt der Verschwörungen. Mit Axel M
	ilberg und Wolfgang M. Schmitt
DTSTAMP:20260420T182355Z
DTSTART:20260313T180000Z
DTEND:20260313T180000Z
DESCRIPTION:Bestuhlt
URL:https://event.cologne/event/litcologne-umberto-eco-und-die-welt-der-ver
	schworungen-mit-axel-milberg-und-wolfgang-m-schmitt
GEO:50.9459;6.97042
LOCATION:Tanzbrunnen - Rheinparkweg 1\, 50679 Köln
STATUS:CONFIRMED
CATEGORIES:
X-ALT-DESC;FMTTYPE=text/html:<p>Bestuhlt</p>
BEGIN:VALARM
ACTION:DISPLAY
DESCRIPTION:lit.COLOGNE Umberto Eco und die Welt der Verschwörungen. Mit Ax
	el Milberg und Wolfgang M. Schmitt
TRIGGER:-PT1H
END:VALARM
END:VEVENT
END:VCALENDAR
