BEGIN:VCALENDAR
VERSION:2.0
CALSCALE:GREGORIAN
PRODID:adamgibbons/ics
METHOD:PUBLISH
X-PUBLISHED-TTL:PT1H
BEGIN:VEVENT
UID:19@event.cologne
SUMMARY:lit.COLOGNE Tara-Louise Wittwer über Nemesis’ Töchter – Ein feminis
	tisches Plädoyer für die Anerkennung weiblicher Wut
DTSTAMP:20260420T182355Z
DTSTART:20260320T180000Z
DTEND:20260320T180000Z
DESCRIPTION:Bestuhlt
URL:https://event.cologne/event/litcologne-tara-louise-wittwer-uber-nemesis
	-tochter-ein-feministisches-pladoyer-fur-die-anerkennung-weiblicher-wut
GEO:50.9459;6.97042
LOCATION:Tanzbrunnen - Rheinparkweg 1\, 50679 Köln
STATUS:CONFIRMED
CATEGORIES:
X-ALT-DESC;FMTTYPE=text/html:<p>Bestuhlt</p>
BEGIN:VALARM
ACTION:DISPLAY
DESCRIPTION:lit.COLOGNE Tara-Louise Wittwer über Nemesis’ Töchter – Ein fem
	inistisches Plädoyer für die Anerkennung weiblicher Wut
TRIGGER:-PT1H
END:VALARM
END:VEVENT
END:VCALENDAR
