BEGIN:VCALENDAR
VERSION:2.0
CALSCALE:GREGORIAN
PRODID:adamgibbons/ics
METHOD:PUBLISH
X-PUBLISHED-TTL:PT1H
BEGIN:VEVENT
UID:11@event.cologne
SUMMARY:lit.COLOGNE Supertypen! Ulrich Matthes\, Albrecht Schuch und Tobias
	 Rüther ergründen das Beste\, was es gibt auf der Welt: die Männerfreundsc
	haft
DTSTAMP:20260420T182354Z
DTSTART:20260315T180000Z
DTEND:20260315T180000Z
DESCRIPTION:Bestuhlt
URL:https://event.cologne/event/litcologne-supertypen-ulrich-matthes-albrec
	ht-schuch-und-tobias-ruther-ergrunden-das-beste-was-es-gibt-auf-der-welt-d
	ie-mannerfreundschaft
GEO:50.9459;6.97042
LOCATION:Tanzbrunnen - Rheinparkweg 1\, 50679 Köln
STATUS:CONFIRMED
CATEGORIES:
X-ALT-DESC;FMTTYPE=text/html:<p>Bestuhlt</p>
BEGIN:VALARM
ACTION:DISPLAY
DESCRIPTION:lit.COLOGNE Supertypen! Ulrich Matthes, Albrecht Schuch und Tob
	ias Rüther ergründen das Beste, was es gibt auf der Welt: die Männerfreund
	schaft
TRIGGER:-PT1H
END:VALARM
END:VEVENT
END:VCALENDAR
