BEGIN:VCALENDAR
VERSION:2.0
CALSCALE:GREGORIAN
PRODID:adamgibbons/ics
METHOD:PUBLISH
X-PUBLISHED-TTL:PT1H
BEGIN:VEVENT
UID:23@event.cologne
SUMMARY:lit.COLOGNE Siri Hustvedt: Ghost Stories – In Erinnerung an Paul Au
	ster. Mit Maria Schrader
DTSTAMP:20260420T182359Z
DTSTART:20260322T180000Z
DTEND:20260322T180000Z
DESCRIPTION:Bestuhlt
URL:https://event.cologne/event/litcologne-siri-hustvedt-ghost-stories-in-e
	rinnerung-an-paul-auster-mit-maria-schrader
GEO:50.9459;6.97042
LOCATION:Tanzbrunnen - Rheinparkweg 1\, 50679 Köln
STATUS:CONFIRMED
CATEGORIES:
X-ALT-DESC;FMTTYPE=text/html:<p>Bestuhlt</p>
BEGIN:VALARM
ACTION:DISPLAY
DESCRIPTION:lit.COLOGNE Siri Hustvedt: Ghost Stories – In Erinnerung an Pau
	l Auster. Mit Maria Schrader
TRIGGER:-PT1H
END:VALARM
END:VEVENT
END:VCALENDAR
