BEGIN:VCALENDAR
VERSION:2.0
CALSCALE:GREGORIAN
PRODID:adamgibbons/ics
METHOD:PUBLISH
X-PUBLISHED-TTL:PT1H
BEGIN:VEVENT
UID:10@event.cologne
SUMMARY:lit.COLOGNE Prager Verbrechen – Sabine Rückert und Dietmar Bär über
	 Egon Erwin Kisch
DTSTAMP:20260420T182359Z
DTSTART:20260315T150000Z
DTEND:20260315T150000Z
DESCRIPTION:Bestuhlt
URL:https://event.cologne/event/litcologne-prager-verbrechen-sabine-ruckert
	-und-dietmar-bar-uber-egon-erwin-kisch
GEO:50.9459;6.97042
LOCATION:Tanzbrunnen - Rheinparkweg 1\, 50679 Köln
STATUS:CONFIRMED
CATEGORIES:
X-ALT-DESC;FMTTYPE=text/html:<p>Bestuhlt</p>
BEGIN:VALARM
ACTION:DISPLAY
DESCRIPTION:lit.COLOGNE Prager Verbrechen – Sabine Rückert und Dietmar Bär 
	über Egon Erwin Kisch
TRIGGER:-PT1H
END:VALARM
END:VEVENT
END:VCALENDAR
