BEGIN:VCALENDAR
VERSION:2.0
CALSCALE:GREGORIAN
PRODID:adamgibbons/ics
METHOD:PUBLISH
X-PUBLISHED-TTL:PT1H
BEGIN:VEVENT
UID:18@event.cologne
SUMMARY:lit.COLOGNE Poe! Bela B Felsenheimer\, Katharina Thalbach und Paul 
	Ingendaay über einen Vorreiter der modernen Literatur
DTSTAMP:20260420T182355Z
DTSTART:20260320T150000Z
DTEND:20260320T150000Z
DESCRIPTION:Bestuhlt
URL:https://event.cologne/event/litcologne-poe-bela-b-felsenheimer-katharin
	a-thalbach-und-paul-ingendaay-uber-einen-vorreiter-der-modernen-literatur
GEO:50.9459;6.97042
LOCATION:Tanzbrunnen - Rheinparkweg 1\, 50679 Köln
STATUS:CONFIRMED
CATEGORIES:
X-ALT-DESC;FMTTYPE=text/html:<p>Bestuhlt</p>
BEGIN:VALARM
ACTION:DISPLAY
DESCRIPTION:lit.COLOGNE Poe! Bela B Felsenheimer, Katharina Thalbach und Pa
	ul Ingendaay über einen Vorreiter der modernen Literatur
TRIGGER:-PT1H
END:VALARM
END:VEVENT
END:VCALENDAR
