BEGIN:VCALENDAR
VERSION:2.0
CALSCALE:GREGORIAN
PRODID:adamgibbons/ics
METHOD:PUBLISH
X-PUBLISHED-TTL:PT1H
BEGIN:VEVENT
UID:15@event.cologne
SUMMARY:lit.COLOGNE Mein Unglück beginnt damit\, dass der Stromkreis als Re
	chteck abgebildet wird – (Un-)gehaltene Reden von Saša Stanišić
DTSTAMP:20260420T182357Z
DTSTART:20260317T183000Z
DTEND:20260317T183000Z
DESCRIPTION:Bestuhlt
URL:https://event.cologne/event/litcologne-mein-ungluck-beginnt-damit-dass-
	der-stromkreis-als-rechteck-abgebildet-wird-un-gehaltene-reden-von-sasa-st
	anisic
GEO:50.9459;6.97042
LOCATION:Tanzbrunnen - Rheinparkweg 1\, 50679 Köln
STATUS:CONFIRMED
CATEGORIES:
X-ALT-DESC;FMTTYPE=text/html:<p>Bestuhlt</p>
BEGIN:VALARM
ACTION:DISPLAY
DESCRIPTION:lit.COLOGNE Mein Unglück beginnt damit, dass der Stromkreis als
	 Rechteck abgebildet wird – (Un-)gehaltene Reden von Saša Stanišić
TRIGGER:-PT1H
END:VALARM
END:VEVENT
END:VCALENDAR
