BEGIN:VCALENDAR
VERSION:2.0
CALSCALE:GREGORIAN
PRODID:adamgibbons/ics
METHOD:PUBLISH
X-PUBLISHED-TTL:PT1H
BEGIN:VEVENT
UID:1@event.cologne
SUMMARY:lit.COLOGNE Marc-Uwe Kling und die Känguru-Rebellion
DTSTAMP:20260420T182344Z
DTSTART:20260311T170000Z
DTEND:20260311T170000Z
DESCRIPTION:Bestuhlt
URL:https://event.cologne/event/litcologne-marc-uwe-kling-und-die-kanguru-r
	ebellion
GEO:50.9459;6.97042
LOCATION:Tanzbrunnen - Rheinparkweg 1\, 50679 Köln
STATUS:CONFIRMED
CATEGORIES:
X-ALT-DESC;FMTTYPE=text/html:<p>Bestuhlt</p>
BEGIN:VALARM
ACTION:DISPLAY
DESCRIPTION:lit.COLOGNE Marc-Uwe Kling und die Känguru-Rebellion
TRIGGER:-PT1H
END:VALARM
END:VEVENT
END:VCALENDAR
