BEGIN:VCALENDAR
VERSION:2.0
CALSCALE:GREGORIAN
PRODID:adamgibbons/ics
METHOD:PUBLISH
X-PUBLISHED-TTL:PT1H
BEGIN:VEVENT
UID:20@event.cologne
SUMMARY:lit.COLOGNE Macbeth – Drei Generationen Thalbach lesen Shakespeare.
	 Mit Nellie\, Anna und Katharina Thalbach
DTSTAMP:20260420T182357Z
DTSTART:20260321T150000Z
DTEND:20260321T150000Z
DESCRIPTION:Bestuhlt
URL:https://event.cologne/event/litcologne-macbeth-drei-generationen-thalba
	ch-lesen-shakespeare-mit-nellie-anna-und-katharina-thalbach-1
GEO:50.9459;6.97042
LOCATION:Tanzbrunnen - Rheinparkweg 1\, 50679 Köln
STATUS:CONFIRMED
CATEGORIES:
X-ALT-DESC;FMTTYPE=text/html:<p>Bestuhlt</p>
BEGIN:VALARM
ACTION:DISPLAY
DESCRIPTION:lit.COLOGNE Macbeth – Drei Generationen Thalbach lesen Shakespe
	are. Mit Nellie, Anna und Katharina Thalbach
TRIGGER:-PT1H
END:VALARM
END:VEVENT
END:VCALENDAR
