BEGIN:VCALENDAR
VERSION:2.0
CALSCALE:GREGORIAN
PRODID:adamgibbons/ics
METHOD:PUBLISH
X-PUBLISHED-TTL:PT1H
BEGIN:VEVENT
UID:21@event.cologne
SUMMARY:lit.COLOGNE „Ich habe geleuchtet“ Ein Best-of von und mit Joachim M
	eyerhoff
DTSTAMP:20260420T182359Z
DTSTART:20260321T180000Z
DTEND:20260321T180000Z
DESCRIPTION:Bestuhlt
URL:https://event.cologne/event/litcologne-ich-habe-geleuchtet-ein-best-of-
	von-und-mit-joachim-meyerhoff
GEO:50.9459;6.97042
LOCATION:Tanzbrunnen - Rheinparkweg 1\, 50679 Köln
STATUS:CONFIRMED
CATEGORIES:
X-ALT-DESC;FMTTYPE=text/html:<p>Bestuhlt</p>
BEGIN:VALARM
ACTION:DISPLAY
DESCRIPTION:lit.COLOGNE „Ich habe geleuchtet“ Ein Best-of von und mit Joach
	im Meyerhoff
TRIGGER:-PT1H
END:VALARM
END:VEVENT
END:VCALENDAR
