BEGIN:VCALENDAR
VERSION:2.0
CALSCALE:GREGORIAN
PRODID:adamgibbons/ics
METHOD:PUBLISH
X-PUBLISHED-TTL:PT1H
BEGIN:VEVENT
UID:5@event.cologne
SUMMARY:lit.COLOGNE Hazel Thomas Hörerlebnis live! Hazel Brugger und Thomas
	 Spitzer treffen Marc-Uwe Kling
DTSTAMP:20260420T182402Z
DTSTART:20260312T180000Z
DTEND:20260312T180000Z
DESCRIPTION:Bestuhlt
URL:https://event.cologne/event/litcologne-hazel-thomas-horerlebnis-live-ha
	zel-brugger-und-thomas-spitzer-treffen-marc-uwe-kling
GEO:50.9459;6.97042
LOCATION:Tanzbrunnen - Rheinparkweg 1\, 50679 Köln
STATUS:CONFIRMED
CATEGORIES:
X-ALT-DESC;FMTTYPE=text/html:<p>Bestuhlt</p>
BEGIN:VALARM
ACTION:DISPLAY
DESCRIPTION:lit.COLOGNE Hazel Thomas Hörerlebnis live! Hazel Brugger und Th
	omas Spitzer treffen Marc-Uwe Kling
TRIGGER:-PT1H
END:VALARM
END:VEVENT
END:VCALENDAR
