BEGIN:VCALENDAR
VERSION:2.0
CALSCALE:GREGORIAN
PRODID:adamgibbons/ics
METHOD:PUBLISH
X-PUBLISHED-TTL:PT1H
BEGIN:VEVENT
UID:2@event.cologne
SUMMARY:lit.COLOGNE Die Bücher ihrer Leben – Torsten Sträter trifft Christi
	an Brückner
DTSTAMP:20260420T182403Z
DTSTART:20260311T200000Z
DTEND:20260311T200000Z
DESCRIPTION:Abgesagt\nMit großem Bedauern teilen wir mit\, dass alle bevors
	tehenden Auftritte von\nTorsten Sträter im Zeitraum Januar bis März 2026 l
	eider nicht stattfinden\nkönnen.\nGrund hierfür ist eine Erkrankung\, die 
	eine längerfristige Regenerationsphase\nerfordert.\nDas Management bittet 
	darum\, die Privatsphäre des Künstlers zu respektieren und\nvon weiteren N
	achfragen abzusehen.\nAufgrund der Vielzahl der Termine können wir leider 
	keine Ersatztermine\nanbieten.\nInformationen zur Rückerstattung der Ticke
	ts finden Sie auf der Website des\nTicketanbieters oder direkt beim jeweil
	igen Veranstalter (lit.COLOGNE\n[http://lit.COLOGNE] GmbH).\nWir danken fü
	r Ihr Verständnis.\nBestuhlt
URL:https://event.cologne/event/litcologne-die-bucher-ihrer-leben-torsten-s
	trater-trifft-christian-bruckner
GEO:50.9459;6.97042
LOCATION:Tanzbrunnen - Rheinparkweg 1\, 50679 Köln
STATUS:CONFIRMED
CATEGORIES:
X-ALT-DESC;FMTTYPE=text/html:<p>Abgesagt<br>Mit großem Bedauern teilen wir 
	mit, dass alle bevorstehenden Auftritte von Torsten Sträter im Zeitraum Ja
	nuar bis März 2026 leider nicht stattfinden können.<br>Grund hierfür ist e
	ine Erkrankung, die eine längerfristige Regenerationsphase erfordert.<br>D
	as Management bittet darum, die Privatsphäre des Künstlers zu respektieren
	 und von weiteren Nachfragen abzusehen.<br>Aufgrund der Vielzahl der Termi
	ne können wir leider keine Ersatztermine anbieten.<br>Informationen zur Rü
	ckerstattung der Tickets finden Sie auf der Website des Ticketanbieters od
	er direkt beim jeweiligen Veranstalter (<a target="_blank" href="http://li
	t.COLOGNE">lit.COLOGNE</a> GmbH).<br>Wir danken für Ihr Verständnis.<br>Be
	stuhlt</p>
BEGIN:VALARM
ACTION:DISPLAY
DESCRIPTION:lit.COLOGNE Die Bücher ihrer Leben – Torsten Sträter trifft Chr
	istian Brückner
TRIGGER:-PT1H
END:VALARM
END:VEVENT
END:VCALENDAR
