BEGIN:VCALENDAR
VERSION:2.0
CALSCALE:GREGORIAN
PRODID:adamgibbons/ics
METHOD:PUBLISH
X-PUBLISHED-TTL:PT1H
BEGIN:VEVENT
UID:12@event.cologne
SUMMARY:lit.COLOGNE Als die Bergarbeiterfrau mit der türkischen Nachbarin e
	in Baklava aß – Pegah Ferydoni\, Dietmar Bär und Thomas Böhm über die Viel
	falt des Ruhrgebiets
DTSTAMP:20260420T182354Z
DTSTART:20260316T153000Z
DTEND:20260316T153000Z
DESCRIPTION:Bestuhlt
URL:https://event.cologne/event/litcologne-als-die-bergarbeiterfrau-mit-der
	-turkischen-nachbarin-ein-baklava-ass-pegah-ferydoni-dietmar-bar-und-thoma
	s-bohm-uber-die-vielfalt-des-ruhrgebiets
GEO:50.9459;6.97042
LOCATION:Tanzbrunnen - Rheinparkweg 1\, 50679 Köln
STATUS:CONFIRMED
CATEGORIES:
X-ALT-DESC;FMTTYPE=text/html:<p>Bestuhlt</p>
BEGIN:VALARM
ACTION:DISPLAY
DESCRIPTION:lit.COLOGNE Als die Bergarbeiterfrau mit der türkischen Nachbar
	in ein Baklava aß – Pegah Ferydoni, Dietmar Bär und Thomas Böhm über die V
	ielfalt des Ruhrgebiets
TRIGGER:-PT1H
END:VALARM
END:VEVENT
END:VCALENDAR
