BEGIN:VCALENDAR
VERSION:2.0
CALSCALE:GREGORIAN
PRODID:adamgibbons/ics
METHOD:PUBLISH
X-PUBLISHED-TTL:PT1H
BEGIN:VEVENT
UID:3@event.cologne
SUMMARY:lit.COLOGNE 2. ZUSATZVERANSTALTUNG: Marc-Uwe Kling und die Känguru-
	Rebellion
DTSTAMP:20260420T182357Z
DTSTART:20260311T193000Z
DTEND:20260311T193000Z
URL:https://event.cologne/event/litcologne-2-zusatzveranstaltung-marc-uwe-k
	ling-und-die-kanguru-rebellion
GEO:50.9459;6.97042
LOCATION:Tanzbrunnen - Rheinparkweg 1\, 50679 Köln
STATUS:CONFIRMED
CATEGORIES:
BEGIN:VALARM
ACTION:DISPLAY
DESCRIPTION:lit.COLOGNE 2. ZUSATZVERANSTALTUNG: Marc-Uwe Kling und die Käng
	uru-Rebellion
TRIGGER:-PT1H
END:VALARM
END:VEVENT
END:VCALENDAR
